BEGIN:VCALENDAR
PRODID:-//Riksbanken//riksbanken.se//SV
VERSION:2.0
BEGIN:VEVENT
DTSTART:20170616T110000Z
DTSTAMP:20260420T025834Z
UID:cbab820df9bd4f4bb18647e3ddc24cfe
CREATED:20260420T025834Z
DESCRIPTION:A New Normal for Interest Rates?Evidence from Inflation-Indexed Debt
LAST-MODIFIED:20260420T025834Z
LOCATION:
SEQUENCE:0
STATUS:CONFIRMED
SUMMARY:Glenn D. Rudebusch, Federal Reserve Bank of San Francisco
TRANSP:OPAQUE
END:VEVENT
END:VCALENDAR
