BEGIN:VCALENDAR
PRODID:-//Riksbanken//riksbanken.se//SV
VERSION:2.0
BEGIN:VEVENT
DTSTART:20170620T110000Z
DTSTAMP:20260420T025952Z
UID:3c268a0b3f434f40a3e0c29dbd25cd1d
CREATED:20260420T025952Z
DESCRIPTION:Frank Heinemann, TU Berlin
Central Bank Reputation, Cheap Talk and Transparency as Substitutes for Commitment: Experimental Evidence
LAST-MODIFIED:20260420T025952Z
LOCATION:
SEQUENCE:0
STATUS:CONFIRMED
SUMMARY:Frank Heinemann, TU Berlin
TRANSP:OPAQUE
END:VEVENT
END:VCALENDAR
