BEGIN:VCALENDAR
PRODID:-//Riksbanken//riksbanken.se//SV
VERSION:2.0
BEGIN:VEVENT
DTSTART:20170828T110000Z
DTSTAMP:20260423T210123Z
UID:9bb833c72c4d456994915dfa0b8eacd9
CREATED:20260423T210123Z
DESCRIPTION:TBA
LAST-MODIFIED:20260423T210123Z
LOCATION:
SEQUENCE:0
STATUS:CONFIRMED
SUMMARY:Virgiliu Midrigan, New York University 
TRANSP:OPAQUE
END:VEVENT
END:VCALENDAR
