BEGIN:VCALENDAR
PRODID:-//Riksbanken//riksbanken.se//SV
VERSION:2.0
BEGIN:VEVENT
DTSTART:20170905T110000Z
DTSTAMP:20260419T175423Z
UID:066f21f3c0c04e5aae761d84bcf7190f
CREATED:20260419T175423Z
DESCRIPTION:A New Predictor of Real Economic Activity: The S&P 500 Option Implied Risk Aversion
LAST-MODIFIED:20260419T175423Z
LOCATION:
SEQUENCE:0
STATUS:CONFIRMED
SUMMARY:George Skiadopoulos, Queen Mary University of London & University of Piraeus
TRANSP:OPAQUE
END:VEVENT
END:VCALENDAR
