BEGIN:VCALENDAR
PRODID:-//Riksbanken//riksbanken.se//SV
VERSION:2.0
BEGIN:VEVENT
DTSTART:20170912T110000Z
DTSTAMP:20260419T175930Z
UID:95b3946ae629437f951830acae167c76
CREATED:20260419T175930Z
DESCRIPTION:Blockchain – The future of recordkeeping
LAST-MODIFIED:20260419T175930Z
LOCATION:
SEQUENCE:0
STATUS:CONFIRMED
SUMMARY:Aleksander Berentsen, University of Basel
TRANSP:OPAQUE
END:VEVENT
END:VCALENDAR
