BEGIN:VCALENDAR
PRODID:-//Riksbanken//riksbanken.se//SV
VERSION:2.0
BEGIN:VEVENT
DTSTART:20170919T110000Z
DTSTAMP:20260419T175930Z
UID:1d954d030cd4435cb720a5880cf57101
CREATED:20260419T175930Z
DESCRIPTION:Unemployment and Endogenous Reallocation over the Business Cycle
LAST-MODIFIED:20260419T175930Z
LOCATION:
SEQUENCE:0
STATUS:CONFIRMED
SUMMARY:Carlos Carrillo Tudela, University of Essex
TRANSP:OPAQUE
END:VEVENT
END:VCALENDAR
