BEGIN:VCALENDAR
PRODID:-//Riksbanken//riksbanken.se//SV
VERSION:2.0
BEGIN:VEVENT
DTSTART:20170926T110000Z
DTSTAMP:20260419T184857Z
UID:490703685375475e8ddfad8927f71f74
CREATED:20260419T184857Z
DESCRIPTION:Macroeconomic Fluctuations with HANK & SAM: an Analytical Approach
LAST-MODIFIED:20260419T184857Z
LOCATION:
SEQUENCE:0
STATUS:CONFIRMED
SUMMARY:Morten Ravn, University College London
TRANSP:OPAQUE
END:VEVENT
END:VCALENDAR
