BEGIN:VCALENDAR
PRODID:-//Riksbanken//riksbanken.se//SV
VERSION:2.0
BEGIN:VEVENT
DTSTART:20171003T110000Z
DTSTAMP:20260420T153820Z
UID:c9ec971c7553467c90e1ba6621fd99fe
CREATED:20260420T153820Z
DESCRIPTION:Pipeline Risk in Leveraged Loan Syndication
LAST-MODIFIED:20260420T153820Z
LOCATION:
SEQUENCE:0
STATUS:CONFIRMED
SUMMARY:Max Bruche, Cass Business School 
TRANSP:OPAQUE
END:VEVENT
END:VCALENDAR
