BEGIN:VCALENDAR
PRODID:-//Riksbanken//riksbanken.se//SV
VERSION:2.0
BEGIN:VEVENT
DTSTART:20171010T110000Z
DTSTAMP:20260420T153608Z
UID:129f1d068a8b436b83bfa192e7477e8e
CREATED:20260420T153608Z
DESCRIPTION:TBA
LAST-MODIFIED:20260420T153608Z
LOCATION:
SEQUENCE:0
STATUS:CONFIRMED
SUMMARY:Steven Ongena, University of Zurich
TRANSP:OPAQUE
END:VEVENT
END:VCALENDAR
