BEGIN:VCALENDAR
PRODID:-//Riksbanken//riksbanken.se//SV
VERSION:2.0
BEGIN:VEVENT
DTSTART:20171017T110000Z
DTSTAMP:20260420T153734Z
UID:9898b93fbb4a487bab471fe404475689
CREATED:20260420T153734Z
DESCRIPTION:Do Market Prices Improve the Accuracy of Court Valuations in Chapter 11?
LAST-MODIFIED:20260420T153734Z
LOCATION:
SEQUENCE:0
STATUS:CONFIRMED
SUMMARY:Julian Franks, London Business School
TRANSP:OPAQUE
END:VEVENT
END:VCALENDAR
