BEGIN:VCALENDAR
PRODID:-//Riksbanken//riksbanken.se//SV
VERSION:2.0
BEGIN:VEVENT
DTSTART:20171024T110000Z
DTSTAMP:20260420T153728Z
UID:cfe2dd48f3f549859ab79f1fc3f0798c
CREATED:20260420T153728Z
DESCRIPTION:TBA
LAST-MODIFIED:20260420T153728Z
LOCATION:
SEQUENCE:0
STATUS:CONFIRMED
SUMMARY:Giancarlo Corsetti, University of Cambridge 
TRANSP:OPAQUE
END:VEVENT
END:VCALENDAR
