BEGIN:VCALENDAR
PRODID:-//Riksbanken//riksbanken.se//SV
VERSION:2.0
BEGIN:VEVENT
DTSTART:20171031T120000Z
DTSTAMP:20260420T153724Z
UID:f843d2bc3d7145e29a4cf1f3cf6057d2
CREATED:20260420T153724Z
DESCRIPTION:Safe Haven CDS Premiums
LAST-MODIFIED:20260420T153724Z
LOCATION:
SEQUENCE:0
STATUS:CONFIRMED
SUMMARY:David Lando, Copenhagen Business School
TRANSP:OPAQUE
END:VEVENT
END:VCALENDAR
