BEGIN:VCALENDAR
PRODID:-//Riksbanken//riksbanken.se//SV
VERSION:2.0
BEGIN:VEVENT
DTSTART:20171107T120000Z
DTSTAMP:20260419T233232Z
UID:edef9bbaf19444a4888cee73e90054b0
CREATED:20260419T233232Z
DESCRIPTION:Natural rates across the Atlantic
LAST-MODIFIED:20260419T233232Z
LOCATION:
SEQUENCE:0
STATUS:CONFIRMED
SUMMARY:Stefano Neri, Banca d'Italia
TRANSP:OPAQUE
END:VEVENT
END:VCALENDAR
