BEGIN:VCALENDAR
PRODID:-//Riksbanken//riksbanken.se//SV
VERSION:2.0
BEGIN:VEVENT
DTSTART:20171108T120000Z
DTSTAMP:20260419T233216Z
UID:bf73122e8b0345acb9bfdf0ab31f1b20
CREATED:20260419T233216Z
DESCRIPTION:"Optimal quantitative easing"
LAST-MODIFIED:20260419T233216Z
LOCATION:
SEQUENCE:0
STATUS:CONFIRMED
SUMMARY:Richard Harrison, Bank of England
TRANSP:OPAQUE
END:VEVENT
END:VCALENDAR
