BEGIN:VCALENDAR
PRODID:-//Riksbanken//riksbanken.se//SV
VERSION:2.0
BEGIN:VEVENT
DTSTART:20171114T120000Z
DTSTAMP:20260419T233310Z
UID:e538e8a72ca94ff98bdc14cf18f70ac6
CREATED:20260419T233310Z
DESCRIPTION:TBA
LAST-MODIFIED:20260419T233310Z
LOCATION:
SEQUENCE:0
STATUS:CONFIRMED
SUMMARY:Kebin Ma, Warwick Business School 
TRANSP:OPAQUE
END:VEVENT
END:VCALENDAR
