BEGIN:VCALENDAR
PRODID:-//Riksbanken//riksbanken.se//SV
VERSION:2.0
BEGIN:VEVENT
DTSTART:20171121T120000Z
DTSTAMP:20260419T233216Z
UID:1cfe839b14454ca6bc3249a3cb34002c
CREATED:20260419T233216Z
DESCRIPTION:TBA
LAST-MODIFIED:20260419T233216Z
LOCATION:
SEQUENCE:0
STATUS:CONFIRMED
SUMMARY:Jonas Arias, Federal Reserve Bank of Philadelphia
TRANSP:OPAQUE
END:VEVENT
END:VCALENDAR
