BEGIN:VCALENDAR
PRODID:-//Riksbanken//riksbanken.se//SV
VERSION:2.0
BEGIN:VEVENT
DTSTART:20171128T120000Z
DTSTAMP:20260419T233232Z
UID:8da4cffb66094becb2e80259be0116f5
CREATED:20260419T233232Z
DESCRIPTION:Revisiting the Housing Wealth Effect
LAST-MODIFIED:20260419T233232Z
LOCATION:
SEQUENCE:0
STATUS:CONFIRMED
SUMMARY:Roine Westman, SU/SHoF
TRANSP:OPAQUE
END:VEVENT
END:VCALENDAR
