BEGIN:VCALENDAR
PRODID:-//Riksbanken//riksbanken.se//SV
VERSION:2.0
BEGIN:VEVENT
DTSTART:20171207T140000Z
DTSTAMP:20260419T175325Z
UID:ddc7d4117739415286717023037ff076
CREATED:20260419T175325Z
DESCRIPTION:"The Making of Hawks and Doves"
LAST-MODIFIED:20260419T175325Z
LOCATION:
SEQUENCE:0
STATUS:CONFIRMED
SUMMARY:Ulrike Malmendier, University of California
TRANSP:OPAQUE
END:VEVENT
END:VCALENDAR
