BEGIN:VCALENDAR
PRODID:-//Riksbanken//riksbanken.se//SV
VERSION:2.0
BEGIN:VEVENT
DTSTART:20171213T120000Z
DTSTAMP:20260419T175655Z
UID:e3d7cbad43ec44b6bab866a0fda30e82
CREATED:20260419T175655Z
DESCRIPTION:Shock Propagation and Banking Structure
LAST-MODIFIED:20260419T175655Z
LOCATION:
SEQUENCE:0
STATUS:CONFIRMED
SUMMARY:Farzad Saidi, SHoF
TRANSP:OPAQUE
END:VEVENT
END:VCALENDAR
