BEGIN:VCALENDAR
PRODID:-//Riksbanken//riksbanken.se//SV
VERSION:2.0
BEGIN:VEVENT
DTSTART:20171218T120000Z
DTSTAMP:20260419T175411Z
UID:459af89ef38f403fa92ef88dfb717cdb
CREATED:20260419T175411Z
DESCRIPTION:Venting Out: Exports During a Domestic Slump
LAST-MODIFIED:20260419T175411Z
LOCATION:
SEQUENCE:0
STATUS:CONFIRMED
SUMMARY:Pol Antràs, Harvard University
TRANSP:OPAQUE
END:VEVENT
END:VCALENDAR
