BEGIN:VCALENDAR
PRODID:-//Riksbanken//riksbanken.se//SV
VERSION:2.0
BEGIN:VEVENT
DTSTART:20171220T120000Z
DTSTAMP:20260419T175941Z
UID:9dc8d4b5417649189067952d7d0820bf
CREATED:20260419T175941Z
DESCRIPTION:Özer Karagedikli, Reserve Bank of New Zealand
Quantitative or qualitative forward guidance: Does it matter?
LAST-MODIFIED:20260419T175941Z
LOCATION:
SEQUENCE:0
STATUS:CONFIRMED
SUMMARY:Özer Karagedikli, Reserve Bank of New Zealand
TRANSP:OPAQUE
END:VEVENT
END:VCALENDAR
