BEGIN:VCALENDAR
PRODID:-//Riksbanken//riksbanken.se//SV
VERSION:2.0
BEGIN:VEVENT
DTSTART:20171221T120000Z
DTSTAMP:20260419T175423Z
UID:e0326aa388844f57a663992a750eaca3
CREATED:20260419T175423Z
DESCRIPTION:TBA
LAST-MODIFIED:20260419T175423Z
LOCATION:
SEQUENCE:0
STATUS:CONFIRMED
SUMMARY:Pontus Rendahl, University of Cambridge
TRANSP:OPAQUE
END:VEVENT
END:VCALENDAR
