BEGIN:VCALENDAR
PRODID:-//Riksbanken//riksbanken.se//SV
VERSION:2.0
BEGIN:VEVENT
DTSTART:20180130T120000Z
DTSTAMP:20260423T210403Z
UID:8d356b06058b416884e3c03358ac44c9
CREATED:20260423T210403Z
DESCRIPTION:The Long-Run Information Effect of Central Bank Narrative
LAST-MODIFIED:20260423T210403Z
LOCATION:
SEQUENCE:0
STATUS:CONFIRMED
SUMMARY:Stephen Hansen, University of Oxford
TRANSP:OPAQUE
END:VEVENT
END:VCALENDAR
