BEGIN:VCALENDAR
PRODID:-//Riksbanken//riksbanken.se//SV
VERSION:2.0
BEGIN:VEVENT
DTSTART:20180213T100000Z
DTSTAMP:20260423T104958Z
UID:c9303987da274460968b157562746d7f
CREATED:20260423T104958Z
DESCRIPTION:A hierarchical approach to forecasting Scandinavian unemployment.
LAST-MODIFIED:20260423T104958Z
LOCATION:
SEQUENCE:0
STATUS:CONFIRMED
SUMMARY:Rickard Sandberg, Stockholm School of Economics and Nikolaos Kourentzes, Lancaster University
TRANSP:OPAQUE
END:VEVENT
END:VCALENDAR
