BEGIN:VCALENDAR
PRODID:-//Riksbanken//riksbanken.se//SV
VERSION:2.0
BEGIN:VEVENT
DTSTART:20180220T120000Z
DTSTAMP:20260423T104840Z
UID:79109b61bcbc477a93e4e24e182aeb7b
CREATED:20260423T104840Z
DESCRIPTION:Shocks versus Structure: Explaining Differences in Exchange Rate Pass-Through Across Countries and Time
LAST-MODIFIED:20260423T104840Z
LOCATION:
SEQUENCE:0
STATUS:CONFIRMED
SUMMARY:Ida Hjortsoe, Bank of England
TRANSP:OPAQUE
END:VEVENT
END:VCALENDAR
