BEGIN:VCALENDAR
PRODID:-//Riksbanken//riksbanken.se//SV
VERSION:2.0
BEGIN:VEVENT
DTSTART:20180306T120000Z
DTSTAMP:20260423T105004Z
UID:73b8a75eb2be4d79a0336c6d79c6568d
CREATED:20260423T105004Z
DESCRIPTION:Overturning Inflation Gap and Output Gap Dynamics Using a Super-Persistent Interest Rate Rule
LAST-MODIFIED:20260423T105004Z
LOCATION:
SEQUENCE:0
STATUS:CONFIRMED
SUMMARY:Guy Segal, Bank of Israel
TRANSP:OPAQUE
END:VEVENT
END:VCALENDAR
