BEGIN:VCALENDAR
PRODID:-//Riksbanken//riksbanken.se//SV
VERSION:2.0
BEGIN:VEVENT
DTSTART:20180313T120000Z
DTSTAMP:20260423T105138Z
UID:30f3c2b5039e49ccbd77fca5f9551ddc
CREATED:20260423T105138Z
DESCRIPTION:Testing Return Predictability with the Dividend-Growth Equation: An Anatomy of the Dog
LAST-MODIFIED:20260423T105138Z
LOCATION:
SEQUENCE:0
STATUS:CONFIRMED
SUMMARY:Erik Hjalmarsson, Göteborgs Universitet
TRANSP:OPAQUE
END:VEVENT
END:VCALENDAR
