BEGIN:VCALENDAR
PRODID:-//Riksbanken//riksbanken.se//SV
VERSION:2.0
BEGIN:VEVENT
DTSTART:20180322T120000Z
DTSTAMP:20260423T105206Z
UID:dd698e02722e4638927d11a623c563ae
CREATED:20260423T105206Z
DESCRIPTION:Buying the Verdict
LAST-MODIFIED:20260423T105206Z
LOCATION:
SEQUENCE:0
STATUS:CONFIRMED
SUMMARY:Lauren Cohen, Harvard Business School
TRANSP:OPAQUE
END:VEVENT
END:VCALENDAR
