BEGIN:VCALENDAR
PRODID:-//Riksbanken//riksbanken.se//SV
VERSION:2.0
BEGIN:VEVENT
DTSTART:20180328T110000Z
DTSTAMP:20260423T105040Z
UID:6e305f404f224ef48b02303655b04f62
CREATED:20260423T105040Z
DESCRIPTION:Employment Hysteresis from the Great Recession
LAST-MODIFIED:20260423T105040Z
LOCATION:
SEQUENCE:0
STATUS:CONFIRMED
SUMMARY:Danny Yagan, University of California, Berkeley
TRANSP:OPAQUE
END:VEVENT
END:VCALENDAR
