BEGIN:VCALENDAR
PRODID:-//Riksbanken//riksbanken.se//SV
VERSION:2.0
BEGIN:VEVENT
DTSTART:20180405T110000Z
DTSTAMP:20260423T104808Z
UID:ac0d56c4a0b54f0aa228198d27376091
CREATED:20260423T104808Z
DESCRIPTION:Financial Innovation, Consumption and house prices
LAST-MODIFIED:20260423T104808Z
LOCATION:
SEQUENCE:0
STATUS:CONFIRMED
SUMMARY:Claes Bäckman, University of Lund
TRANSP:OPAQUE
END:VEVENT
END:VCALENDAR
