BEGIN:VCALENDAR
PRODID:-//Riksbanken//riksbanken.se//SV
VERSION:2.0
BEGIN:VEVENT
DTSTART:20180410T110000Z
DTSTAMP:20260423T104808Z
UID:91d23c819c6e45d1ba4743747e5950f5
CREATED:20260423T104808Z
DESCRIPTION:The Job Ladder: Inflation vs. Reallocation
LAST-MODIFIED:20260423T104808Z
LOCATION:
SEQUENCE:0
STATUS:CONFIRMED
SUMMARY:Fabien Postel-Vinay, University College London
TRANSP:OPAQUE
END:VEVENT
END:VCALENDAR
