BEGIN:VCALENDAR
PRODID:-//Riksbanken//riksbanken.se//SV
VERSION:2.0
BEGIN:VEVENT
DTSTART:20180417T110000Z
DTSTAMP:20260423T104841Z
UID:26d81fc736994214af488a4e11866675
CREATED:20260423T104841Z
DESCRIPTION:Optimal Fiscal Transfers in a Monetary Union
LAST-MODIFIED:20260423T104841Z
LOCATION:
SEQUENCE:0
STATUS:CONFIRMED
SUMMARY:Jonathan Hoddenbagh, Johns Hopkins University
TRANSP:OPAQUE
END:VEVENT
END:VCALENDAR
