BEGIN:VCALENDAR
PRODID:-//Riksbanken//riksbanken.se//SV
VERSION:2.0
BEGIN:VEVENT
DTSTART:20180424T110000Z
DTSTAMP:20260423T104808Z
UID:d2c14deda81a4c2ab5cbfa286438e00e
CREATED:20260423T104808Z
DESCRIPTION:Collateral, central bank repos, and systemic arbitrage
LAST-MODIFIED:20260423T104808Z
LOCATION:
SEQUENCE:0
STATUS:CONFIRMED
SUMMARY:Kjell Nyborg, University of Zurich
TRANSP:OPAQUE
END:VEVENT
END:VCALENDAR
