BEGIN:VCALENDAR
PRODID:-//Riksbanken//riksbanken.se//SV
VERSION:2.0
BEGIN:VEVENT
DTSTART:20180508T110000Z
DTSTAMP:20260423T104849Z
UID:cbabaada39ed40948b4261f7304e4f68
CREATED:20260423T104849Z
DESCRIPTION:Vacancy chains
LAST-MODIFIED:20260423T104849Z
LOCATION:
SEQUENCE:0
STATUS:CONFIRMED
SUMMARY:Mike Elsby, University of Edinburgh
TRANSP:OPAQUE
END:VEVENT
END:VCALENDAR
