BEGIN:VCALENDAR
PRODID:-//Riksbanken//riksbanken.se//SV
VERSION:2.0
BEGIN:VEVENT
DTSTART:20180515T110000Z
DTSTAMP:20260423T105137Z
UID:6f1d920ff5d9493cb916872a24768514
CREATED:20260423T105137Z
DESCRIPTION:DSGE Forecasts of the Lost Recovery
LAST-MODIFIED:20260423T105137Z
LOCATION:
SEQUENCE:0
STATUS:CONFIRMED
SUMMARY:Marco Del Negro, Federal Reserve Bank of New York
TRANSP:OPAQUE
END:VEVENT
END:VCALENDAR
