BEGIN:VCALENDAR
PRODID:-//Riksbanken//riksbanken.se//SV
VERSION:2.0
BEGIN:VEVENT
DTSTART:20180528T120000Z
DTSTAMP:20260423T104957Z
UID:9879ee40c53a494abb024c1640dbd2c5
CREATED:20260423T104957Z
DESCRIPTION:Are Negative Nominal Interest Rates Expansionary?
LAST-MODIFIED:20260423T104957Z
LOCATION:
SEQUENCE:0
STATUS:CONFIRMED
SUMMARY:Gauti B. Eggertsson, Brown University
TRANSP:OPAQUE
END:VEVENT
END:VCALENDAR
