BEGIN:VCALENDAR
PRODID:-//Riksbanken//riksbanken.se//SV
VERSION:2.0
BEGIN:VEVENT
DTSTART:20180529T110000Z
DTSTAMP:20260423T104959Z
UID:eba79afe9d9a4bf0ba11fe2218c395d2
CREATED:20260423T104959Z
DESCRIPTION:Employment, Wages and Optimal Monetary Policy
LAST-MODIFIED:20260423T104959Z
LOCATION:
SEQUENCE:0
STATUS:CONFIRMED
SUMMARY:Martin Bodenstein, Federal Reserve Board 
TRANSP:OPAQUE
END:VEVENT
END:VCALENDAR
