BEGIN:VCALENDAR
PRODID:-//Riksbanken//riksbanken.se//SV
VERSION:2.0
BEGIN:VEVENT
DTSTART:20180605T110000Z
DTSTAMP:20260424T012403Z
UID:fdee691ab76742829ebae0b0a81c282b
CREATED:20260424T012403Z
DESCRIPTION:Forward Guidance
LAST-MODIFIED:20260424T012403Z
LOCATION:
SEQUENCE:0
STATUS:CONFIRMED
SUMMARY:Kurt Mitman, Institute for International Economic Studies
TRANSP:OPAQUE
END:VEVENT
END:VCALENDAR
