BEGIN:VCALENDAR
PRODID:-//Riksbanken//riksbanken.se//SV
VERSION:2.0
BEGIN:VEVENT
DTSTART:20180612T110000Z
DTSTAMP:20260424T012632Z
UID:de00614af71e40f3bc2c9c53885a34e0
CREATED:20260424T012632Z
DESCRIPTION:Downward Nominal Wage Rigidity in the U.S.: New Evidence from Administrative Data
LAST-MODIFIED:20260424T012632Z
LOCATION:
SEQUENCE:0
STATUS:CONFIRMED
SUMMARY:André Kurmann, Drexel University 
TRANSP:OPAQUE
END:VEVENT
END:VCALENDAR
