BEGIN:VCALENDAR
PRODID:-//Riksbanken//riksbanken.se//SV
VERSION:2.0
BEGIN:VEVENT
DTSTART:20180619T110000Z
DTSTAMP:20260424T012347Z
UID:d65810a502284151a1795c3ba82af157
CREATED:20260424T012347Z
DESCRIPTION:Understanding the New Normal: The Role of Demographics
LAST-MODIFIED:20260424T012347Z
LOCATION:TBA
SEQUENCE:0
STATUS:CONFIRMED
SUMMARY:Ben Johannsen, Federal Reserve Board of Governors
TRANSP:OPAQUE
END:VEVENT
END:VCALENDAR
