BEGIN:VCALENDAR
PRODID:-//Riksbanken//riksbanken.se//SV
VERSION:2.0
BEGIN:VEVENT
DTSTART:20180626T110000Z
DTSTAMP:20260424T012454Z
UID:648a86831cc34f50898ac71476935d6a
CREATED:20260424T012454Z
DESCRIPTION:Banking Crises, Bail-Ins and Money Holdings
LAST-MODIFIED:20260424T012454Z
LOCATION:TBA
SEQUENCE:0
STATUS:CONFIRMED
SUMMARY:Martin Brown, University of St.Gallen
TRANSP:OPAQUE
END:VEVENT
END:VCALENDAR
