BEGIN:VCALENDAR
PRODID:-//Riksbanken//riksbanken.se//SV
VERSION:2.0
BEGIN:VEVENT
DTSTART:20180904T090000Z
DTSTAMP:20260423T133548Z
UID:3309bb70171247898bd4f06a3632ccbd
CREATED:20260423T133548Z
DESCRIPTION:Learning from History: Volatility and Financial Crises
LAST-MODIFIED:20260423T133548Z
LOCATION:
SEQUENCE:0
STATUS:CONFIRMED
SUMMARY:Jon Danielsson, London School of Economics
TRANSP:OPAQUE
END:VEVENT
END:VCALENDAR
