BEGIN:VCALENDAR
PRODID:-//Riksbanken//riksbanken.se//SV
VERSION:2.0
BEGIN:VEVENT
DTSTART:20180906T090000Z
DTSTAMP:20260423T133548Z
UID:51412d6859fa45469b503f58f0b4dc14
CREATED:20260423T133548Z
DESCRIPTION:The Fed’s Forecasts
LAST-MODIFIED:20260423T133548Z
LOCATION:
SEQUENCE:0
STATUS:CONFIRMED
SUMMARY:Neil Ericsson, Federal Reserve Board
TRANSP:OPAQUE
END:VEVENT
END:VCALENDAR
