BEGIN:VCALENDAR
PRODID:-//Riksbanken//riksbanken.se//SV
VERSION:2.0
BEGIN:VEVENT
DTSTART:20180911T090000Z
DTSTAMP:20260423T133548Z
UID:2cdf1b13c59a4882ab80cd88ba4dc2ca
CREATED:20260423T133548Z
DESCRIPTION:Predictably Unequal? The Effects of Machine Learning on Credit Markets
LAST-MODIFIED:20260423T133548Z
LOCATION:
SEQUENCE:0
STATUS:CONFIRMED
SUMMARY:Andreas Fuster, Federal Reserve Bank of New York
TRANSP:OPAQUE
END:VEVENT
END:VCALENDAR
