BEGIN:VCALENDAR
PRODID:-//Riksbanken//riksbanken.se//SV
VERSION:2.0
BEGIN:VEVENT
DTSTART:20180913T070000Z
DTEND:20180914T123000Z
DTSTAMP:20260423T133558Z
UID:19f5b931ed244b8b8d014eb49eb9658a
CREATED:20260423T133558Z
DESCRIPTION:Sveriges Riksbank, in collaboration with the IIES, St. Louis Federal Reserve, and Ragnar Söderbergs Stiftelse will host a conference on theoretical and empirical research regarding "Housing, Credit and Heterogeneity: New Challenges for Stabilization Policies" on September 13-14, 2018.
Program\n\nOrganiser:  Sveriges Riksbank
LAST-MODIFIED:20260423T133558Z
LOCATION:
SEQUENCE:0
STATUS:CONFIRMED
SUMMARY:Workshop on Housing, Credit and Heterogeneity: New Challenges for Stabilization Policies
TRANSP:OPAQUE
END:VEVENT
END:VCALENDAR
