BEGIN:VCALENDAR
PRODID:-//Riksbanken//riksbanken.se//SV
VERSION:2.0
BEGIN:VEVENT
DTSTART:20180918T090000Z
DTSTAMP:20260423T133548Z
UID:3f0e64c3099642b798b4b376e6415b34
CREATED:20260423T133548Z
DESCRIPTION:Resource Curse or Blessing? Sovereign Risk in Resource-Rich Emerging Economies
LAST-MODIFIED:20260423T133548Z
LOCATION:
SEQUENCE:0
STATUS:CONFIRMED
SUMMARY:Paulina Restrepo, Federal Reserve Bank of St. Louis
TRANSP:OPAQUE
END:VEVENT
END:VCALENDAR
