BEGIN:VCALENDAR
PRODID:-//Riksbanken//riksbanken.se//SV
VERSION:2.0
BEGIN:VEVENT
DTSTART:20180925T090000Z
DTSTAMP:20260423T133548Z
UID:fd93c22fea5e4f9888e6461976440112
CREATED:20260423T133548Z
DESCRIPTION:Money and capital in a persistent liquidity trap
LAST-MODIFIED:20260423T133548Z
LOCATION:
SEQUENCE:0
STATUS:CONFIRMED
SUMMARY:Kenza Benhima, Lausanne University
TRANSP:OPAQUE
END:VEVENT
END:VCALENDAR
