BEGIN:VCALENDAR
PRODID:-//Riksbanken//riksbanken.se//SV
VERSION:2.0
BEGIN:VEVENT
DTSTART:20181002T090000Z
DTSTAMP:20260423T104840Z
UID:0da5c33827244a2db06a126ba86236ce
CREATED:20260423T104840Z
DESCRIPTION:Puzzling Exchange Rate Dynamics and Delayed Portfolio Adjustment
LAST-MODIFIED:20260423T104840Z
LOCATION:
SEQUENCE:0
STATUS:CONFIRMED
SUMMARY:Philippe Bacchetta, Lausanne University
TRANSP:OPAQUE
END:VEVENT
END:VCALENDAR
