BEGIN:VCALENDAR
PRODID:-//Riksbanken//riksbanken.se//SV
VERSION:2.0
BEGIN:VEVENT
DTSTART:20181016T090000Z
DTSTAMP:20260423T105003Z
UID:479918c5d3cb4409b8fef81f9ba36fff
CREATED:20260423T105003Z
DESCRIPTION:Bank Leverage, Welfare, and Regulation
LAST-MODIFIED:20260423T105003Z
LOCATION:
SEQUENCE:0
STATUS:CONFIRMED
SUMMARY:Anat Admati, Stanford Graduate School of Business
TRANSP:OPAQUE
END:VEVENT
END:VCALENDAR
