BEGIN:VCALENDAR
PRODID:-//Riksbanken//riksbanken.se//SV
VERSION:2.0
BEGIN:VEVENT
DTSTART:20181023T090000Z
DTSTAMP:20260423T105003Z
UID:ae1642135ac142c6b2dc1aeaf5c15856
CREATED:20260423T105003Z
DESCRIPTION:Why Have Negative Nominal Interest Rates Had Such a Small Effect on Bank Performance? Cross Country Evidence
LAST-MODIFIED:20260423T105003Z
LOCATION:
SEQUENCE:0
STATUS:CONFIRMED
SUMMARY:Mark Spiegel, Federal Reserve Bank of San Francisco 
TRANSP:OPAQUE
END:VEVENT
END:VCALENDAR
